BEGIN:VCALENDAR
PRODID:-//TERMINALFOUR//SITEMANAGER V8.1//EN
VERSION:2.1
TZ:+00
BEGIN:VEVENT
DTSTART:20260520T19:00:00 +0100
DTEND:20260520T20:00:00 +0100
LOCATION:St Johns Place, Perth, Scotland PH1 5SZ
DESCRIPTION:
SUMMARY:Public Seminar Series - The Methven Hoard Project by Dr Carl Savage
END:VEVENT
END:VCALENDAR